BEGIN:VCALENDAR
VERSION:2.0
PRODID:-//Royal Entomological Society - ECPv6.15.17.1//NONSGML v1.0//EN
CALSCALE:GREGORIAN
METHOD:PUBLISH
X-WR-CALNAME:Royal Entomological Society
X-ORIGINAL-URL:https://www.royensoc.co.uk
X-WR-CALDESC:Events for Royal Entomological Society
REFRESH-INTERVAL;VALUE=DURATION:PT1H
X-Robots-Tag:noindex
X-PUBLISHED-TTL:PT1H
BEGIN:VTIMEZONE
TZID:Europe/London
BEGIN:DAYLIGHT
TZOFFSETFROM:+0000
TZOFFSETTO:+0100
TZNAME:BST
DTSTART:20210328T010000
END:DAYLIGHT
BEGIN:STANDARD
TZOFFSETFROM:+0100
TZOFFSETTO:+0000
TZNAME:GMT
DTSTART:20211031T010000
END:STANDARD
BEGIN:DAYLIGHT
TZOFFSETFROM:+0000
TZOFFSETTO:+0100
TZNAME:BST
DTSTART:20220327T010000
END:DAYLIGHT
BEGIN:STANDARD
TZOFFSETFROM:+0100
TZOFFSETTO:+0000
TZNAME:GMT
DTSTART:20221030T010000
END:STANDARD
BEGIN:DAYLIGHT
TZOFFSETFROM:+0000
TZOFFSETTO:+0100
TZNAME:BST
DTSTART:20230326T010000
END:DAYLIGHT
BEGIN:STANDARD
TZOFFSETFROM:+0100
TZOFFSETTO:+0000
TZNAME:GMT
DTSTART:20231029T010000
END:STANDARD
END:VTIMEZONE
BEGIN:VEVENT
DTSTART;TZID=Europe/London:20220628T080000
DTEND;TZID=Europe/London:20220630T160000
DTSTAMP:20260426T034948
CREATED:20220523T144932Z
LAST-MODIFIED:20220524T135900Z
UID:10000090-1656403200-1656604800@www.royensoc.co.uk
SUMMARY:CONNECTED - Online Conference
DESCRIPTION:The Royal Entomological Society frequently hosts and advertises UK and international events year-round for people of all stages of interest and career.\n\n\n\nBecoming a member entitles you to discounted (and sometimes free) access to the majority of events.\n\n\n\n\nBecome a RES Member\n\n\n\n\n\n\n\n\nBringing together plant pathologists\, entomologists and agricultural innovators\, this event will build new connections between disciplines and researchers\, zoning in on the most crucial areas of interdisciplinary research needed to improve global food security. \n\n\n\nThe conference will include scientific talks and poster sessions\, plenaries from world-class leaders in plant vector-borne disease\, workshops to explore priority research questions\, opportunities and challenges\, plus emerging community needs – all expertly facilitated. \n\n\n\n\n\n\n\nConfirmed speakers to date include: \n\n\n\nDr Adrian Valli\, Principal Investigator\, Spanish National Center for Biotechnology (CNB-CSIC)\, SpainProf. Shirley Luckhart\, Co-Director of Institute for Health in the Human Ecosystem\, University of Idaho\, USADr Saliou Niassy\, Head of Agricultural Technology Transfer Unit\, ICIPE – International Centre of Insect Physiology and Ecology\, KenyaDr Christophe Lacomme\, Senior Virologist\, Science and Advice for Scottish Agriculture (SASA)\, ScotlandDr Taro Takahashi\, Senior Lecturer in Sustainable Livestock Systems and Food Security\, and Joint Food Security Theme Research Lead at Cabot Institute for the Environment\, University of Bristol\, United Kingdom\n\n\n\nThere will also be significant opportunities and designated space for professional networking\, plus twenty places available on a Scriptoria grant-writing workshop in the lead-up to the conference. There are also chances to speak – until the end of April we will be accepting applications to give a talk. \n\n\n\n\n\n\n\n\n\n\n\nThe conference will encompass: \n\n\n\nCurrent and emerging issues and questions in plant vector-borne disease researchInnovation and translation of plant vector-borne disease research outputs into technologies/solutions/applicationsInterdisciplinarity in plant vector-borne disease – and the future collaborations needed\n\n\n\n\n\n\n\nIn addition to CONNECTED Network Members\, we extend our invitations to this event to all members of the British Society for Plant Pathology (BSPP) and the Royal Entomological Society (RES). We hope that bringing these three research communities together to share knowledge\, to connect and to collaborate\, will help us all to find the interdisciplinary solutions needed to better solve the problems caused by insect-borne plant diseases. \n\n\n\n\n\n\n\nView the Programme here.\n\n\n\n\n\n\n\nRegister now on Eventbrite from the ConnectedVirus.net website.\n\n\n\nThis event is sponsored by the British Society for Plant Pathology. \n\n\n\n\n\n\n\nNote – We do not provide recordings of events or presentations as standard\, unless otherwise stated.
URL:https://www.royensoc.co.uk/event/connected-online-conference/
ATTACH;FMTTYPE=image/jpeg:https://www.royensoc.co.uk/wp-content/uploads/2022/02/Connected-Logo.jpg
LOCATION:
END:VEVENT
END:VCALENDAR