BEGIN:VCALENDAR
VERSION:2.0
PRODID:-//Royal Entomological Society - ECPv6.15.17.1//NONSGML v1.0//EN
CALSCALE:GREGORIAN
METHOD:PUBLISH
X-WR-CALNAME:Royal Entomological Society
X-ORIGINAL-URL:https://www.royensoc.co.uk
X-WR-CALDESC:Events for Royal Entomological Society
REFRESH-INTERVAL;VALUE=DURATION:PT1H
X-Robots-Tag:noindex
X-PUBLISHED-TTL:PT1H
BEGIN:VTIMEZONE
TZID:Europe/London
BEGIN:DAYLIGHT
TZOFFSETFROM:+0000
TZOFFSETTO:+0100
TZNAME:BST
DTSTART:20250330T010000
END:DAYLIGHT
BEGIN:STANDARD
TZOFFSETFROM:+0100
TZOFFSETTO:+0000
TZNAME:GMT
DTSTART:20251026T010000
END:STANDARD
BEGIN:DAYLIGHT
TZOFFSETFROM:+0000
TZOFFSETTO:+0100
TZNAME:BST
DTSTART:20260329T010000
END:DAYLIGHT
BEGIN:STANDARD
TZOFFSETFROM:+0100
TZOFFSETTO:+0000
TZNAME:GMT
DTSTART:20261025T010000
END:STANDARD
BEGIN:DAYLIGHT
TZOFFSETFROM:+0000
TZOFFSETTO:+0100
TZNAME:BST
DTSTART:20270328T010000
END:DAYLIGHT
BEGIN:STANDARD
TZOFFSETFROM:+0100
TZOFFSETTO:+0000
TZNAME:GMT
DTSTART:20271031T010000
END:STANDARD
END:VTIMEZONE
BEGIN:VEVENT
DTSTART;TZID=Europe/London:20261029T100000
DTEND;TZID=Europe/London:20261030T170000
DTSTAMP:20260425T230315
CREATED:20250626T112414Z
LAST-MODIFIED:20260318T152610Z
UID:10000175-1793268000-1793379600@www.royensoc.co.uk
SUMMARY:Advances in Hemipteran Research 2026
DESCRIPTION:Advances in Hemipteran Research 2026\n\n\n\nThursday 29 October – Friday 30 October 2026 \n\n\n\nUCLouvain\, Brussels Woluwe Campus\, Belgium \n\n\n\nThe Royal Entomological Society has expanded its former Aphid Special Interest Group to cover all hemipterans and is delighted to be working with the Aphid Research Network BAPOA\, supported by INRAE\, the French National Research Institute for Agriculture\, Food and Environment\, on this joint event. \n\n\n\nToo often\, specialists work in isolation from others with whom they have much in common. All hemipterans have piercing mouthparts. Species from many families transmit plant viruses. On the other hand\, they are hugely diverse. Some feed on plants\, others on animals. They live on land\, fresh water and even in the sea. Some are abundant pests\, some are of conservation concern. Understanding commonalities and differences in terms of evolution\, ecology\, behaviour\, physiology and systematics leads to improvements in practical outcomes. \n\n\n\nCome and share your latest findings from the population to the molecular level and absorb those of others. Becoming more of a generalist can advance your specialism! \n\n\n\n\n\n\n\n\n\n\n\n\n\n\n\nCall for Abstracts\n\n\n\nThe call for abstracts for talks\, flash talks\, posters and poster presentations is now open! \n\n\n\nPlease note that submissions do not automatically guarantee a presentation slot. You will be contacted by the organisers to let you know if your abstract has been successful after the deadline.   \n\n\n\nDeadline for abstract submissions: Friday 3 July 2026 \n\n\n\n\nSubmit your abstracts\n\n\n\n\n\n\n\n\n\n\n\n\n\n\n\n\nConference dinner\n\n\n\nDinner at Le Roy d’Espagne for the evening of Thursday 29 October will be included in the conference price. This will comprise a three-course set menu and two drinks. More information will be provided upon registering. \n\n\n\n\n\n\n\n\n\n\n\n\n\n\n\nExhibition and Sponsorship \n\n\n\nJoin us in supporting our upcoming joint event! Connect with industry professionals\, showcase your brand\, and engage with an audience of approx. 150 delegates. \n\n\n\nA range of sponsorship and exhibitor packages are available to suit different objectives and budgets\, each offering valuable exposure and benefits. We are also happy to discuss bespoke packages tailored to your specific goals and needs.  \n\n\n\n\nScroll down for exhibitor and sponsorship opportunities\n\n\n\n\n\n\n\n\n\n\n\n\nKeynote speakers:\n\n\n\n\n\n\n\nProf. Thierry Hance\, Université de Louvain-la-Neuve \n\n\n\nTalk title: Demographics\, sociality\, behaviour and interactions: some evolutionary advantages of aphid populations \n\n\n\n\n\n\n\nThierry Hance’s laboratory \n\n\n\nThe Ecology of Interactions and Biological Control (EDIC) laboratory analyses multitrophic interactions between aphids (Aphididae)\, their parasitoids and the facultative symbiotic bacteria that give aphids complementary properties\, as well as the viruses they can transmit to host plants. To gain the most comprehensive possible understanding of these interactions and their consequences\, the team employs a variety of approaches\, ranging from behavioural analysis to genome sequencing and the study of physiological aspects related to developmental temperatures. More recently\, the influence of facultative endosymbionts of aphids\, particularly cultivable strains of Serratia symbiotica\, has been investigated. Circulation of the bacterium in the food web has been demonstrated\, as has its role in defending aphids against parasitoids and modifying the behaviour of their hosts. \n\n\n\n\n\n\n\nBiography \n\n\n\nThierry Hance is a trained biologist who specialises in ecology and population biology\, particularly with regard to insects. He completed his PhD at UCLouvain\, researching the role of predatory insect populations in protecting crops against aphids in agricultural areas. Following postdoctoral research into the adaptation of certain species to low temperatures at an Agriculture Canada research station\, he was appointed a qualified researcher at the FNRS in Belgium in 1991. There\, he developed research topics on the evolutionary relationships between plants and insects\, and between hosts and parasitoids. Aphididae are at the centre of the models that I have studied in interaction with their parasitoids. Since becoming a professor at the Catholic University of Louvain in Louvain-la-Neuve in 1996\, he has developed a research laboratory focusing on the ecology of interactions and biological control (EDIC).  His research focuses on the ecology and population dynamics of insects and mites\, some of which are of interest in agriculture. He has also developed practical biological control models for use in cereals\, orchards\, and greenhouses\, with the aim of replacing pesticides. The expertise and technology developed in the EDIC laboratory has led to the establishment of a company specialising in producing insects for biological control purposes (www.viridaxis.com). He is currently focusing on the relationship between agriculture and biodiversity through European projects on the importance of landscape heterogeneity and crop management\, including agroecological approaches. \n\n\n\nWebsite: https://www.uclouvain.be/en/research-institutes/eli/eliv/team-hance \n\n\n\n\n\n\n\nProf. Saskia Hogenhout\, John Innes Center\n\n\n\nTalk title: Building resilience to insect-vectored plant pathogens \n\n\n\n\n\n\n\nThe Hogenhout Lab \n\n\n\nThe lab of Saskia Hogenhout investigates the molecular mechanisms underlying plant-microbe-insect interactions (MPMII)\, with two main research directions. One focuses on the virulence strategies of insect-transmitted phytoplasmas\, specifically how their effector proteins reprogram plant development and suppress immunity to benefit both the pathogen and its insect vector. The second explores the biology of sap-feeding hemipteran insects—including aphids\, leafhoppers\, and froghoppers—by generating population genomics resources and studying how their salivary proteins manipulate plant processes to facilitate feeding and transmission. \n\n\n\nBiography \n\n\n\nSaskia A. Hogenhout received her BSc and MSc from Vrije Universiteit Amsterdam in 1994 and completed her PhD at Wageningen University in 1999. She began her independent career at The Ohio State University\, where she was appointed Assistant Professor in 1999 and promoted to Associate Professor with tenure in 2005. In 2007\, she relocated her lab to the John Innes Centre in the UK and became an Honorary Professor at the University of East Anglia in 2013. She was elected a Member of EMBO in 2023 and a Fellow of the Royal Society in 2024. \n\n\n\nWebsite: https://www.jic.ac.uk/people/saskia-hogenhout/ Twitter: @SaskiaHogenhout \n\n\n\n\n\n\n\nDr Emmanuelle Jousselin\, INRAE CBGP Montpellier \n\n\n\nTalk title: Beyond Buchnera: the evolutionary consequences of symbiont turnover in Aphids \n\n\n\n\n\n\n\nBiography \n\n\n\nEmmanuelle Jousselin is a research scientist at CBGP\, INRAE. Her research program focuses on understanding the evolutionary processes that structure interactions between phytophagous insects and their host plants\, with a particular emphasis on aphids and their symbiotic bacteria. She combines molecular systematics\, phylogenomic and macroevolutionary approaches to investigate host–symbiont coevolution\, cospeciation\, and the ecological and evolutionary drivers of symbiont turnover\, which she has shown to be pivotal in aphid adaptation and diversification. Her recent work has focused on the phylogeny and the diversification of conifer-feeding aphids\, and the evolutionary dynamics of nutritional symbionts in this  group. \n\n\n\n\n\n\n\n\n\n\n\n\n\n\n\nNote: By registering for and attending this event\, you acknowledge that photographs and/or video recordings may be taken. These images may be used by the Royal Entomological Society for promotional\, educational\, and archival purposes\, including publication on our website\, social media\, and printed materials. If you do not wish to be photographed or filmed\, please inform a member of the organising team on arrival or contact us in advance at events@royensoc.co.uk.   \n\n\n\n\n\n\n\nAre you a BAPOA Member? \n\n\n\nContact us for a discount code for the SIG. \n\n\n\nStandard two-day registration cost – including evening dinnerRES Student/BAPOA Student Member£95RES/BAPOA Member£190RES Associate Member or Non Member£280\n\n\n\n\n\n\n\n \n\n\n\n\n\n\n\n\n\n\n\n\n\n\n\n\n\n\n\n\n\n\n\n\n\n\n\nSponsorship and Exhibition opportunities\n\n\n\n\n\n\n\n\nDownload the brochure\n\n\n\n\n\n\n\n\nHemiptera SIG 2026 sponsorship brochure
URL:https://www.royensoc.co.uk/event/advances-in-hemipteran-research-2026/
CATEGORIES:External Event
ATTACH;FMTTYPE=image/png:https://www.royensoc.co.uk/wp-content/uploads/2025/06/Joint-logo-1.png
END:VEVENT
END:VCALENDAR