BEGIN:VCALENDAR
VERSION:2.0
PRODID:-//Royal Entomological Society - ECPv6.15.17.1//NONSGML v1.0//EN
CALSCALE:GREGORIAN
METHOD:PUBLISH
X-ORIGINAL-URL:https://www.royensoc.co.uk
X-WR-CALDESC:Events for Royal Entomological Society
REFRESH-INTERVAL;VALUE=DURATION:PT1H
X-Robots-Tag:noindex
X-PUBLISHED-TTL:PT1H
BEGIN:VTIMEZONE
TZID:Europe/London
BEGIN:DAYLIGHT
TZOFFSETFROM:+0000
TZOFFSETTO:+0100
TZNAME:BST
DTSTART:20250330T010000
END:DAYLIGHT
BEGIN:STANDARD
TZOFFSETFROM:+0100
TZOFFSETTO:+0000
TZNAME:GMT
DTSTART:20251026T010000
END:STANDARD
BEGIN:DAYLIGHT
TZOFFSETFROM:+0000
TZOFFSETTO:+0100
TZNAME:BST
DTSTART:20260329T010000
END:DAYLIGHT
BEGIN:STANDARD
TZOFFSETFROM:+0100
TZOFFSETTO:+0000
TZNAME:GMT
DTSTART:20261025T010000
END:STANDARD
BEGIN:DAYLIGHT
TZOFFSETFROM:+0000
TZOFFSETTO:+0100
TZNAME:BST
DTSTART:20270328T010000
END:DAYLIGHT
BEGIN:STANDARD
TZOFFSETFROM:+0100
TZOFFSETTO:+0000
TZNAME:GMT
DTSTART:20271031T010000
END:STANDARD
END:VTIMEZONE
BEGIN:VEVENT
DTSTART;TZID=Europe/London:20260509T100000
DTEND;TZID=Europe/London:20260509T153000
DTSTAMP:20260426T035331
CREATED:20260415T090747Z
LAST-MODIFIED:20260421T141903Z
UID:10000201-1778320800-1778340600@www.royensoc.co.uk
SUMMARY:Bug Fest 2026 - External
DESCRIPTION:A day of insect discovery for all ages \n\n\n\n📍 Dorothy Fox Centre\, Sheffield Botanical Gardens\, S10 2LN📅 Saturday 9th May 2026⏰ 10:00am – 3:30pm \n\n\n\nFREE ENTRY \n\n\n\n\n\n\n\nCome along and explore the un-bee-lievable world of insects at BUG FEST 2026 – a fun\, interactive day packed with activities for curious minds of all ages! \n\n\n\nDiscover just how fascinating insects are and why they play such an important role in our world through hands-on experiences\, expert insights and family-friendly fun. \n\n\n\nJoin us for a fun-filled day of f-ant-astic activities at Sheffield Botanical Gardens\, in collaboration with the University of Sheffield. This family-friendly event has something for everyone\, whether it’s peering down a microscope\, trying your hand at pond dipping\, or feeding your creative side with insect-themed crafts! \n\n\n\nCome and meet our entomologists and learn about their amazing research\, from butterfly wing colouration\, earthworm burrowing behaviour\, to how insects cope with city life.  \n\n\n\nEntry is free and the event will be held from 10am – 15:30pm at the Dorothy Fox Education Centre. We welcome all age groups\, but children must be accompanied by an adult at all times. \n\n\n\nLooking forward to seeing you there! \n\n\n\n\n\n\n\n\nDownload and share the flyer\n\n\n\n\n\n\n\n\nAbout Bug Fest\n\n\n\nThe Bug Fest event is a science festival funded by the Royal Entomological Society\, aiming to celebrate and raise awareness about insects and insect science\, and allow people to engage with nature. Our goals are to increase public engagement with insects and local wildlife; to showcase insect science research from the University of Sheffield\, and to raise public awareness of the importance of insects and increase knowledge of insect conservation measures. \n\n\n\nThis is the third time this event will be held at the Sheffield Botanical Gardens\, after Bug Fest 2024 and 2025. The venue for the event is the Dorothy Fox Education Centre. The previous recorded attendances were 563 people in 2024 and 761 people in 2025.  Activities from previous years have included insect-themed crafts\, insect zoo (display of live insects and some handling)\, a microscope activity\, bug safaris\, a pollination game and stalls from PhD students presenting their research on worms\, urban insects and butterfly wing colour evolution.  \n\n\n\nWe aim to run different types of activities that are suitable for a range of age groups\, including young children\, primary and secondary school students\, and adults\, and to accommodate different ways of learning. \n\n\n\nEvent organised by PhD researcher Stephanie Glendinning at the University of Sheffield.  \n\n\n\n\n\n\n\nWhat’s On\n\n\n\nEnjoy a range of f-ant-astic activities\, including: \n\n\n\n\n🐜 Live Insect Zoo – get up close with incredible insects\n\n\n\n🎨 Games and Crafts – creative fun for all ages\n\n\n\n🔍 Bug Safaris – explore and discover insects in their natural habitat\n\n\n\n🎓 Academic Research Stands – meet scientists and learn about real insect research\n\n\n\n\n\n\n\n\nAccessibility and Important Information\n\n\n\nThis is a free\, drop-in event – no booking required \n\n\n\n\nAll children must be accompanied by an adult at all times\n\n\n\n\nEntry to Sheffield Botanical Gardens and the event is free\, and accessible by foot and public transport.  The Education Centre and the surrounding outdoor area where the event will be held are wheelchair accessible and there is Blue Badge parking nearby.  \n\n\n\nWe aim to run different types of activity that are suitable for a range of age groups\, including young children\, primary and secondary school students\, and adults. We aim to accommodate different ways of learning\, by running different types of activities\, including interactive demonstrations.  \n\n\n\nBring your curiosity\, your questions\, and your sense of adventure – see you there!
URL:https://www.royensoc.co.uk/event/bug-fest-2026/
LOCATION:Dorothy Fox Centre\, Sheffield Botanical Gardens\, S10 2LN\, Dorothy Fox Centre\, Sheffield Botanical Gardens\, Sheffield\, S10 2LN\, United Kingdom
CATEGORIES:External Event
ATTACH;FMTTYPE=image/png:https://www.royensoc.co.uk/wp-content/uploads/2026/04/BugFest-Poster-2026-square.png
END:VEVENT
BEGIN:VEVENT
DTSTART;TZID=Europe/London:20260509T140000
DTEND;TZID=Europe/London:20260509T160000
DTSTAMP:20260426T035331
CREATED:20260421T141410Z
LAST-MODIFIED:20260421T142315Z
UID:10000202-1778335200-1778342400@www.royensoc.co.uk
SUMMARY:Fantastic Fungi Festival - External
DESCRIPTION:9 May 2026\, 14:00-16:00  \n\n\n\nRoyal Institution\, 21 Albemarle Street\, LONDON\, W1S 4 BS  \n\n\n\nThe Royal Entomological Society will be taking part at the Royal Institution’s Fantastic Fungi Festival\, in partnership with Pestival.  \n\n\n\nThe event will include a shortened performance of Zombie Ant Fungus\, which explores the science of Ophiocordyceps\, the parasitic organism that hijacks the nervous system of ants and turns living bodies into vehicles of its own survival.  \n\n\n\nFollowing the performance at the Ri there will be a mini-festival for families\, with a range of hands‑on activities and demos from scientists\, experts and organisations\, highlighting the fascinating world of fungi.  \n\n\n\nThe RES is collaborating with students from the Stroeymeyt Lab at the University of Bristol\, to tell the story of how ant colonies respond to fungal infection\, through behaviour change and colony architecture adaptation.  \n\n\n\n\nBuy tickets online on the Royal Institution website
URL:https://www.royensoc.co.uk/event/fantastic-fungi-festival-external/
CATEGORIES:External Event
ATTACH;FMTTYPE=image/webp:https://www.royensoc.co.uk/wp-content/uploads/2026/04/Zombie-Ant-Fungus-manonant-c-Pestival.webp
END:VEVENT
END:VCALENDAR