BEGIN:VCALENDAR
VERSION:2.0
PRODID:-//Royal Entomological Society - ECPv6.15.17.1//NONSGML v1.0//EN
CALSCALE:GREGORIAN
METHOD:PUBLISH
X-ORIGINAL-URL:https://www.royensoc.co.uk
X-WR-CALDESC:Events for Royal Entomological Society
REFRESH-INTERVAL;VALUE=DURATION:PT1H
X-Robots-Tag:noindex
X-PUBLISHED-TTL:PT1H
BEGIN:VTIMEZONE
TZID:Europe/London
BEGIN:DAYLIGHT
TZOFFSETFROM:+0000
TZOFFSETTO:+0100
TZNAME:BST
DTSTART:20260329T010000
END:DAYLIGHT
BEGIN:STANDARD
TZOFFSETFROM:+0100
TZOFFSETTO:+0000
TZNAME:GMT
DTSTART:20261025T010000
END:STANDARD
BEGIN:DAYLIGHT
TZOFFSETFROM:+0000
TZOFFSETTO:+0100
TZNAME:BST
DTSTART:20270328T010000
END:DAYLIGHT
BEGIN:STANDARD
TZOFFSETFROM:+0100
TZOFFSETTO:+0000
TZNAME:GMT
DTSTART:20271031T010000
END:STANDARD
BEGIN:DAYLIGHT
TZOFFSETFROM:+0000
TZOFFSETTO:+0100
TZNAME:BST
DTSTART:20280326T010000
END:DAYLIGHT
BEGIN:STANDARD
TZOFFSETFROM:+0100
TZOFFSETTO:+0000
TZNAME:GMT
DTSTART:20281029T010000
END:STANDARD
BEGIN:DAYLIGHT
TZOFFSETFROM:+0000
TZOFFSETTO:+0100
TZNAME:BST
DTSTART:20290325T010000
END:DAYLIGHT
BEGIN:STANDARD
TZOFFSETFROM:+0100
TZOFFSETTO:+0000
TZNAME:GMT
DTSTART:20291028T010000
END:STANDARD
END:VTIMEZONE
BEGIN:VEVENT
DTSTART;TZID=Europe/London:20270303T163000
DTEND;TZID=Europe/London:20270303T173000
DTSTAMP:20260425T172139
CREATED:20260422T160812Z
LAST-MODIFIED:20260422T162153Z
UID:10000203-1804091400-1804095000@www.royensoc.co.uk
SUMMARY:Verrall Lecture 2027
DESCRIPTION:Venue: London (TBC) \n\n\n\nDate: Wednesday 3 March (16:30 – 17:30) \n\n\n\n\n\n\n\nSpeaker\n\n\n\nWe are delighted to announce that Dr. Claire Carvell of the UK Centre for Ecology & Hydrology will be our 2027 Verrall Lecturer. \n\n\n\nMore information and details of how to register will follow in due course.  \n\n\n\n\n\n\n\n\nHistory of the Verrall Lecture\n\n\n\n\n\n\n\n\n\n\n\n\nRegistration\n\n\n\nRegistration will open in due course.  \n\n\n\nTo ensure your spot at the event\, we strongly recommend signing up in advance\, as spaces are limited and tend to fill quickly. Early registration guarantees your place and helps us plan more effectively for everyone attending.  \n\n\n\nThe lecture will start at 16:30\, there will be tea and coffee available from 16:00. There will be an RES stand and rare books on display\, so do arrive early to meet key members of the RES team. \n\n\n\nIf you are unable to attend in person\, the talk will be recorded and shared after the event. \n\n\n\n\n\n\n\nNote: By registering for and attending this event\, you acknowledge that photographs and/or video recordings may be taken. These images maybe used by the Royal Entomological Society for promotional\, educational\, and archival purposes\, including publication on our website\, social media\, and printed materials. If you do not wish to be photographed or filmed\, please inform a member of the organising team on arrival or contact us in advance at events@royensoc.co.uk.  
URL:https://www.royensoc.co.uk/event/verrall-lecture-2027/
END:VEVENT
BEGIN:VEVENT
DTSTART;TZID=Europe/London:20270316T090000
DTEND;TZID=Europe/London:20270316T170000
DTSTAMP:20260425T172139
CREATED:20260220T105324Z
LAST-MODIFIED:20260303T144801Z
UID:10000199-1805187600-1805216400@www.royensoc.co.uk
SUMMARY:Advisory Services Special Interest Group (SIG)
DESCRIPTION:Advisory Services Special Interest Group (SIG)\n\n\n\nJoin us at the NEW Advisory Service SIG meeting\, which will be held at the Alice Holt Research Station\, Forest Research. \n\n\n\nMore information will follow… \n\n\n\nLearn more about our Advisory Services Special Interest Group: Advisory Services – Royal Entomological Society
URL:https://www.royensoc.co.uk/event/advisory-services-special-interest-group-sig/
ATTACH;FMTTYPE=image/png:https://www.royensoc.co.uk/wp-content/uploads/2025/11/RES-SIG-Logo-Advisory-Services.png
END:VEVENT
BEGIN:VEVENT
DTSTART;TZID=Europe/London:20280717T100000
DTEND;TZID=Europe/London:20280721T170000
DTSTAMP:20260425T172139
CREATED:20250110T123152Z
LAST-MODIFIED:20260303T144802Z
UID:10000166-1847440800-1847811600@www.royensoc.co.uk
SUMMARY:ICE2028
DESCRIPTION:XXVIII International Congress of Entomology 2028\n\n\n\n\n\n\n\n\n\n\n\n\n\n\n\nWe are excited to announce the XXVIII International Congress of Entomology (ICE2028) taking place in Cape Town\, South Africa\, hosted by the Entomological Society of Southern Africa in 2028. \n\n\n\nMore information TBC
URL:https://www.royensoc.co.uk/event/ice2028/
CATEGORIES:External Event
ATTACH;FMTTYPE=image/png:https://www.royensoc.co.uk/wp-content/uploads/2025/01/Untitled-1-09.png
END:VEVENT
END:VCALENDAR