BEGIN:VCALENDAR
VERSION:2.0
PRODID:-//Royal Entomological Society - ECPv6.15.17.1//NONSGML v1.0//EN
CALSCALE:GREGORIAN
METHOD:PUBLISH
X-WR-CALNAME:Royal Entomological Society
X-ORIGINAL-URL:https://www.royensoc.co.uk
X-WR-CALDESC:Events for Royal Entomological Society
REFRESH-INTERVAL;VALUE=DURATION:PT1H
X-Robots-Tag:noindex
X-PUBLISHED-TTL:PT1H
BEGIN:VTIMEZONE
TZID:Europe/London
BEGIN:DAYLIGHT
TZOFFSETFROM:+0000
TZOFFSETTO:+0100
TZNAME:BST
DTSTART:20210328T010000
END:DAYLIGHT
BEGIN:STANDARD
TZOFFSETFROM:+0100
TZOFFSETTO:+0000
TZNAME:GMT
DTSTART:20211031T010000
END:STANDARD
BEGIN:DAYLIGHT
TZOFFSETFROM:+0000
TZOFFSETTO:+0100
TZNAME:BST
DTSTART:20220327T010000
END:DAYLIGHT
BEGIN:STANDARD
TZOFFSETFROM:+0100
TZOFFSETTO:+0000
TZNAME:GMT
DTSTART:20221030T010000
END:STANDARD
BEGIN:DAYLIGHT
TZOFFSETFROM:+0000
TZOFFSETTO:+0100
TZNAME:BST
DTSTART:20230326T010000
END:DAYLIGHT
BEGIN:STANDARD
TZOFFSETFROM:+0100
TZOFFSETTO:+0000
TZNAME:GMT
DTSTART:20231029T010000
END:STANDARD
END:VTIMEZONE
BEGIN:VEVENT
DTSTART;TZID=Europe/London:20220620T090000
DTEND;TZID=Europe/London:20220626T170000
DTSTAMP:20260426T052015
CREATED:20220105T140738Z
LAST-MODIFIED:20220620T102537Z
UID:10000073-1655715600-1656262800@www.royensoc.co.uk
SUMMARY:Insect Week 2022
DESCRIPTION:The Royal Entomological Society frequently hosts and advertises UK and international events year-round for people of all stages of interest and career.\n\n\n\nBecoming a member entitles you to discounts (and sometimes free) access to majority of events.\n\n\n\n\nBecome a RES Member\n\n\n\n\n\n\n\n\n\n\n\n\nOur annual celebration of the ‘little things that run the world’ returns.\n\n\n\n\n\n\n\nFind out more at www.insectweek.co.uk\n\n\n\n\n\n\n\n\n\n\n\n\n\n\n\n\n\n\n\n\n\n\n\n\n\n\n\n\n\nInsect Week Events\n\n\n\nSome events taking place during Insect Week – Click on each to find out more\, or visit the Insect Week Events page to search for an event near you! \n\n\n\n\n\n\n\nEvent Date & Time LocationDiscover the World of Insects Biologist meetMonday 20th June\, 13:00-18:00 Life Sciences Building\, University of BristolGround Beetle ID with Microscopes: Tribes\, with the FSCMonday 20th June\, 10:00-16:00Field Studies Council Bushy Park\, HamptonPerceptions of insects: Philias and Phobias Panel DiscussionTuesday 21st June\, 13:00-14:00Online eventField Identification of Solitary Wasps with the FSC Tuesday 21st June – 10:00-16:00Field Studies Council Bishops Wood\, Stourport-on-SevernThe Big Bang Fair 2022 Wednesday 22nd-Friday 24th June\, 09:30-15:30The NEC in BirminghamField Identification of Hoverflies with the FSCWednesday 22nd June\, 10:00-16:00Field Studies Council Bushy Park\, HamptonInvertebrate recording day at Rindle MossWednesday 22nd June\, 10:00-16:00Rindle Moss\, Irlam\, Greater ManchesterBushy Park Invertebrate Volunteer ID Day with the FSCThursday 23rd June\, 10:00-16:00Field Studies Council Bushy Park\, HamptonField Identification of Conspicuous Ladybirds: Adults and Larvae\, with the FSCFriday 24th June\, 10:00-16:00Field Studies Council Bushy Park\, HamptonStonefly Larvae Identification with Microscopes with the FSCFriday 24th June\, 10:00-16:00Field Studies Council Bishops Wood\, Stourport-on-SevernMayfly Larvae Identification with Microscopes with the FSCSaturday 25th June\, 10:00-16:00Field Studies Council Bishops Wood\, Stourport-on-SevernInsect Odyssey exhibition at Salisbury MuseumSaturday 25th June\, 10:00-17:00The Salisbury Museum\, The Kings House\, SalisburyStillingfleet Lodge Gardens Annual Wildlife DaySunday 26th June\, 13:00-17:00Stillingfleet Lodge Gardens\, YorkRiverfly Volunteer Identifcation Day with the FSCSunday 26th June\, 10:00-16:00Field Studies Council Bishops Wood\, Stourport-on-Severn\n\n\n\n\n\n\n\n\n\n\n\nInsect Week Photography Competition\n\n\n\nThe Insect Week  Photography Competition is back again this year! Submit your best insect-themed photos for prizes and features. Be sure to read the Terms & Conditions before entering. \n\n\n\n\n\n\n\nInsect Week Art Competition \n\n\n\nPhotography not your thing? This year\, we are also running an Art Competiton – Visit the Art Competition page to enter now. \n\n\n\n\n\n\n\nTake a look at some wonderful photos from our Photography Competition 2021\n\n\n\n\n\n\n\n\n\n\n\n\n\nSocial Media Campaigns 🦋🐞🐝🐛\n\n\n\nFollow @InsectWeek on social media platforms for more updates\, great photography\, interesting news and fun things to do\, including our campaigns throughout the week – Let us know: \n\n\n\n\n\n\n\n#WhatIsYourFavouriteInsect?  \n\n\n\n#HowDoYouFeelAboutInsects? \n\n\n\n\n\n\n\nJust tag us with @InsectWeek and the above hashtags in posts with images\, text\, reels or your preferred medium and we will endeavour to share and feature as many as possible through our stories or reposts during #InsectWeek22 – Let’s do our best this week to share our love\, respect and knowledge of insects! \n\n\n\n\n\n\n\nOur socials: \n\n\n\nInstagram\n\nTwitter\n\nFacebook\n\n\n\n\n\n\n\n\n\n\n\n\n\n\n\nNote – We do not provide recordings of events or presentations as standard\, unless otherwise stated.
URL:https://www.royensoc.co.uk/event/insect-week-2022/
ATTACH;FMTTYPE=image/jpeg:https://www.royensoc.co.uk/wp-content/uploads/2022/01/insectweek-2022.jpg
END:VEVENT
BEGIN:VEVENT
DTSTART;TZID=Europe/London:20220621T130000
DTEND;TZID=Europe/London:20220621T140000
DTSTAMP:20260426T052015
CREATED:20220428T094015Z
LAST-MODIFIED:20220624T140537Z
UID:10000087-1655816400-1655820000@www.royensoc.co.uk
SUMMARY:Perceptions of insects: Philias and Phobias - online discussion
DESCRIPTION:The Royal Entomological Society frequently hosts and advertises UK and international events year-round for people of all stages of interest and career.\n\n\n\nBecoming a member entitles you to discounted (and sometimes free) access to the majority of events.\n\n\n\n\nBecome a RES Member\n\n\n\n\n\n\n\n\n\n\n\n\n\n\n\n\nThank you to those who attended our ‘Perceptions of Insects’ talk.\n\n\n\nWe were able to successfully record this panel discussion and are please to be able to share this with you if you missed it\, or just wanted to watch it again! \n\n\n\n\n\n\n\n\n\n\n\n\n\n\n\n\n\nWatch the full #HowDoYouFeelAboutInsects Playlist on YouTube.\n\n\n\n\n\n\n\n\n\n\n\n\n\n\n\nTaking place during Insect Week 2022 is the \n\n\n\n‘Perceptions of insects: Philias and Phobias’ online discussion\n\n\n\n\n\n\n\n\n\n\n\n\n\n\n\nLove insects? Hate Insects? Bees good\, wasps bad? Butterflies wow\, moths yuk?  \n\n\n\nHow do we come to love and hate insects\, or prefer some insects over others? And why is this a crucial question in times of climate and biodiversity crisis? \n\n\n\nA panel discussion about our perceptions of insects\, with views from researchers in science communication\, ecology\, geography\, literature and film. \n\n\n\n\n\n\n\n\n\n\n\n\n\n\n\n\nAdam Hart\, University of Gloucestershire \n\n\n\nAdam Hart is Professor of Science Communication at the University of Gloucestershire. He teaches and carries out research in behaviour\, ecology and evolution. Adam is also a science presenter on television and radio and has cofounded several Citizen Science surveys. \n\n\n\n\n\n\n\nTwitter:  @AdamHartScience \n\n\n\nInstagram: @AdamHartScience \n\n\n\n\n\n\n\n\n\nFranziska Kohlt\, University of York \n\n\n\nFranziska Kohlt is a researcher in Science Communication\, the History of Science & Literature\, with a background in Communication and Media Science and Comparative Literature. Her doctoral thesis on Dreams and Visions in Victorian Psychology Fantastic Literature established the latter as primary medium to digest and communicate new scientific knowledge\, its societal and epistemological implications. \n\n\n\n\n\n\n\nTwitter: @frankendodo \n\n\n\nInstagram: @frankendodo \n\n\n\n\n\n\n\n\n\nLiam Hathaway\, De Montfort University \n\n\n\nLiam Hathaway recently earned his PhD at De Montfort University by conducting an eco-cultural investigation of the killer bug movie. Though he is interested in all kinds of film\, his key interests lie in neo-noir\, horror and the post-apocalyptic\, with a particular emphasis on how genre films engage with the cultural moment. He has written for multiple edited collections\, often provides screening notes for London’s Science Fiction Theatre and has delivered papers at several conferences. \n\n\n\n\n\n\n\nTwitter: @LiamVIII \n\n\n\nInstagram: @ liam__viii \n\n\n\n\n\n\n\n\n\nSeirian Sumner\, University College London \n\n\n\nSeirian Sumner is Professor in Behavioural Ecology at University College London. She looks at the evolution of social behaviour in insects and cofounded the Big Wasp Survey. Seirian is an advocate for female scientists and cofounded Soapbox Science. In 2022 Seirian’s book Endless Forms: The Secret World of Wasps is published. \n\n\n\n\n\n\n\nTwitter: @WaspWoman \n\n\n\nInstagram: @waspprof \n\n\n\n\n\n\n\n\n\nVerity Jones\, University of the West of England \n\n\n\nVerity is an Associate Professor at the University of the West of England\, Bristol. Her research interests lie in education and issues of social and environmental justice\, within which food systems are a major part. Verity has undertaken research with 7-11 year olds regarding the acceptance of edible insects into school meals at a time of climate and ecological emergency. \n\n\n\n\n\n\n\nTwitter: @VerityJones_edu \n\n\n\nInstagram: @VerityJones_edu \n\n\n\n\n\n\n\n\n\n\n\n\n\n\n\n\nOnline\, free but registration required – Register your ticket below\n\n\n\n\n\n\n\n\n\n\n\n\n\n\n\nNote – We do not provide recordings of events or presentations as standard\, unless otherwise stated.
URL:https://www.royensoc.co.uk/event/perceptions-of-insects-philias-and-phobias/
ATTACH;FMTTYPE=image/png:https://www.royensoc.co.uk/wp-content/uploads/2022/04/c-Caterson-Jessica-2010.png
LOCATION:https://www.royensoc.co.uk/event/perceptions-of-insects-philias-and-phobias/
END:VEVENT
BEGIN:VEVENT
DTSTART;TZID=Europe/London:20220622T093000
DTEND;TZID=Europe/London:20220624T153000
DTSTAMP:20260426T052015
CREATED:20220407T163228Z
LAST-MODIFIED:20220607T082006Z
UID:10000085-1655890200-1656084600@www.royensoc.co.uk
SUMMARY:The Big Bang Fair 2022
DESCRIPTION:The Royal Entomological Society frequently hosts and advertises UK and international events year-round for people of all stages of interest and career.\n\n\n\nBecoming a member entitles you to discounted (and sometimes free) access to the majority of events.\n\n\n\n\nBecome a RES Member\n\n\n\n\nTaking place at the NEC Birmingham during our Insect Week 2022 event is the Big Bang Fair!\n\n\n\n\n\n\n\n\n\n\n\n\n\n\n\nThe Big Bang Fair is back for 2022! We’re so excited for you to join us at the UK’s biggest celebration of STEM for young people. \n\n\n\nThe Big Bang UK Young Scientists and Engineers Fair is returning from Wednesday 22 to Friday 24 June 2022 at The NEC in Birmingham. The Fair is open to schools from 9.30am to 3.30pm to get stuck in\, get inspired and get excited at the STEM event of the year. \n\n\n\nBig Bang Fair – Exploring Insects & Entomology stand \n\n\n\nThe Big Bang Fair 2022 will be packed full of exciting\, interactive activities and has been designed specifically with 11 to 14 year olds in mind\, to provide the best careers inspiration\, advice and opportunities to meet with real scientists and engineers. \n\n\n\n\n\n\n\n\n\n\n\n\n\n\n\nRegistrations for schools groups are now fully booked. If you still want to get stuck in at The Fair\, but don’t have a ticket yet\, you can join the waiting list to be notified of any upcoming availability. \n\n\n\nJoin the waiting list. \n\n\n\n\n\n\n\n\n\n\n\n\n\n\n\nTickets remain for families\, home educators and school groups to visit us at The Big Bang Fair Unlocked on Thursday 23 June 4pm to 8pm. \n\n\n\nRegister for The Big bang Fair Unlocked. \n\n\n\nMore details about the exciting activities and opportunities on offer at The Big Bang Fair will be coming soon and will be updated regularly\, so make sure to check back. \n\n\n\nReady to go? Plan your visit. \n\n\n\n\n\n\n\n\n\n\n\n\n\n\n\nNote – We do not provide recordings of events or presentations as standard\, unless otherwise stated.
URL:https://www.royensoc.co.uk/event/the-big-bang-fair-2022/
LOCATION:The NEC in Birmingham\, National Exhibition Centre\, North Ave\, Marston Green\, Birmingham\, B40 1NT\, United Kingdom
ATTACH;FMTTYPE=image/png:https://www.royensoc.co.uk/wp-content/uploads/2022/04/BigBangLogo-Blue-2.png
END:VEVENT
END:VCALENDAR