BEGIN:VCALENDAR
VERSION:2.0
PRODID:-//Royal Entomological Society - ECPv6.15.17.1//NONSGML v1.0//EN
CALSCALE:GREGORIAN
METHOD:PUBLISH
X-ORIGINAL-URL:https://www.royensoc.co.uk
X-WR-CALDESC:Events for Royal Entomological Society
REFRESH-INTERVAL;VALUE=DURATION:PT1H
X-Robots-Tag:noindex
X-PUBLISHED-TTL:PT1H
BEGIN:VTIMEZONE
TZID:Europe/London
BEGIN:DAYLIGHT
TZOFFSETFROM:+0000
TZOFFSETTO:+0100
TZNAME:BST
DTSTART:20210328T010000
END:DAYLIGHT
BEGIN:STANDARD
TZOFFSETFROM:+0100
TZOFFSETTO:+0000
TZNAME:GMT
DTSTART:20211031T010000
END:STANDARD
BEGIN:DAYLIGHT
TZOFFSETFROM:+0000
TZOFFSETTO:+0100
TZNAME:BST
DTSTART:20220327T010000
END:DAYLIGHT
BEGIN:STANDARD
TZOFFSETFROM:+0100
TZOFFSETTO:+0000
TZNAME:GMT
DTSTART:20221030T010000
END:STANDARD
BEGIN:DAYLIGHT
TZOFFSETFROM:+0000
TZOFFSETTO:+0100
TZNAME:BST
DTSTART:20230326T010000
END:DAYLIGHT
BEGIN:STANDARD
TZOFFSETFROM:+0100
TZOFFSETTO:+0000
TZNAME:GMT
DTSTART:20231029T010000
END:STANDARD
END:VTIMEZONE
BEGIN:VEVENT
DTSTART;TZID=Europe/London:20220717T090000
DTEND;TZID=Europe/London:20220722T170000
DTSTAMP:20260426T052138
CREATED:20220105T140949Z
LAST-MODIFIED:20220728T144639Z
UID:10000074-1658048400-1658509200@www.royensoc.co.uk
SUMMARY:XXVI International Congress of Entomology (ICE)
DESCRIPTION:The Royal Entomological Society frequently hosts and advertises UK and international events year-round for people of all stages of interest and career.\n\n\n\nBecoming a member entitles you to discounted (and sometimes free) access to the majority of events.\n\n\n\n\nBecome a RES Member\n\n\n\n\n\n\n\n\n\n\n\n\n\n\n\n\n\n\n\n\nThank you to everyone who visited us and took part in our activities at the international insect science event in Helsinki.\n\n\n\n\n\n\n\nHave a look at some of the photos from the event. \n\n\n\n\n\n\n\n\n\nHope to see you at #ICE2024 in Kyoto\, Japan!\n\n\n\n\n\n\n\n\n\n\n\n\n\n\n\nMeet the RES at the international insect science event in Helsinki.\n\n\n\n\n\n\n\nThe Royal Entomological Society is a sponsor and exhibitor at the global entomology event ICE2022\, which will take place in Helsinki\, Finland. \n\n\n\nRES staff including our CEO Simon Ward will be on our stand in the exhibition hall at the Messukeskus and look forward to meeting conference delegates and welcoming new members to the Society. \n\n\n\nOur Head of Publishing Emilie Aimé will run a Meet the Editors event – #PitchYourPaper. \n\n\n\n\n\n\n\n\nProfessor Janet Hemingway \n\n\n\nProf. Janet Hemingway will be delivering our Wigglesworth Memorial Lecture as a plenary speaker\, and will be awarded the Medal for ‘outstanding services to the science of Entomology’ on Wednesday 20th July. \n\n\n\nJanet is a geneticist and is currently Professor of Insect Molecular Biology. She has 34 years’ experience working on the biochemistry and molecular biology of specific enzyme systems associated with xenobiotic resistance.  \n\n\n\n\n\n\n\n\nRegistration information is on the ICE2022 website.\n\n\n\nWe look forward to meeting you in Helsinki! \n\n\n\n\n\n\n\n\n\n\n\n\n\n\n\nNote – We do not provide recordings of events or presentations as standard\, unless otherwise stated.
URL:https://www.royensoc.co.uk/event/xxvi-international-congress-of-entomology-ice/
ATTACH;FMTTYPE=image/png:https://www.royensoc.co.uk/wp-content/uploads/2022/01/ICE2022_logo_plain_updated-27.2.2021-1.png
END:VEVENT
END:VCALENDAR